BEGIN:VCALENDAR
VERSION:2.0
PRODID:-//wp-events-plugin.com//7.2.3.1//EN
BEGIN:VEVENT
UID:4479@adventhaus-dresden.de
DTSTART;TZID=Europe/Berlin:20240824T140000
DTEND;TZID=Europe/Berlin:20240824T190000
DTSTAMP:20240114T184419Z
URL:https://adventhaus-dresden.de/termine/weiterbildungstag-kindergottesdi
 enst-mit-rpi-in-dd-west/
SUMMARY:Weiterbildungstag Kindergottesdienst mit RPI (in DD-West)
DESCRIPTION:Allen Mitarbeitern im Bereich Kinderbetreuung in Dresden und Um
 gebung wird ein Angebot zur professionellen Weiterbildung bereitgestellt. 
 Detaillierte Informationen folgen.\nWas ist das RPI? https://sta-rpi.net/d
 as-institut/ziele-und-aufgaben-des-rpi/
ATTACH;FMTTYPE=image/jpeg:https://adventhaus-dresden.de/wp-content/uploads
 /231218-RPI-Jubilaeumslogo-400x419-1.png
CATEGORIES:AJDD-Kindergruppe,Intern
END:VEVENT
BEGIN:VTIMEZONE
TZID:Europe/Berlin
X-LIC-LOCATION:Europe/Berlin
BEGIN:DAYLIGHT
DTSTART:20240331T030000
TZOFFSETFROM:+0100
TZOFFSETTO:+0200
TZNAME:CEST
END:DAYLIGHT
END:VTIMEZONE
END:VCALENDAR