BEGIN:VCALENDAR
VERSION:2.0
PRODID:-//wp-events-plugin.com//7.2.3.1//EN
BEGIN:VEVENT
UID:5589@adventhaus-dresden.de
DTSTART;TZID=Europe/Berlin:20250927T160000
DTEND;TZID=Europe/Berlin:20250927T180000
DTSTAMP:20250805T180815Z
URL:https://adventhaus-dresden.de/termine/tauferinnerungstag-2/
SUMMARY:Tag der Erinnerung // День воспоминания
DESCRIPTION:Wir erinnern uns an die Taufe\, die guten Taten Gottes und sein
 en Segen. // Мы вспоминаем крещение\, добрые д
 ела Божии и его благословение
ATTACH;FMTTYPE=image/jpeg:https://adventhaus-dresden.de/wp-content/uploads
 /Rose-3.jpg
CATEGORIES:AJDD-Jugendgruppe,Senioren
END:VEVENT
BEGIN:VTIMEZONE
TZID:Europe/Berlin
X-LIC-LOCATION:Europe/Berlin
BEGIN:DAYLIGHT
DTSTART:20250330T030000
TZOFFSETFROM:+0100
TZOFFSETTO:+0200
TZNAME:CEST
END:DAYLIGHT
END:VTIMEZONE
END:VCALENDAR