BEGIN:VCALENDAR
VERSION:2.0
PRODID:-//wp-events-plugin.com//7.2.3.1//EN
BEGIN:VEVENT
UID:5586@adventhaus-dresden.de
DTSTART:20251230T130000Z
DTEND:20260104T190000Z
DTSTAMP:20250131T164843Z
URL:https://adventhaus-dresden.de/termine/silvesterfreizeit-mit-der-leipzi
 ger-jugendgruppe/
SUMMARY:Silvesterfreizeit mit der Leipziger Jugendgruppe
DESCRIPTION:Silvesterfreizeit mit der Leipziger Jugend im A-Haus und Dresde
 n-West
ATTACH;FMTTYPE=image/jpeg:https://adventhaus-dresden.de/wp-content/uploads
 /Silvester-2023.jpg
CATEGORIES:AJDD-Jugendgruppe
END:VEVENT
END:VCALENDAR