BEGIN:VCALENDAR
VERSION:2.0
PRODID:-//wp-events-plugin.com//7.2.3.1//EN
BEGIN:VEVENT
UID:5689@adventhaus-dresden.de
DTSTART;TZID=Europe/Berlin:20250320T183000
DTEND;TZID=Europe/Berlin:20250320T210000
DTSTAMP:20250314T183410Z
URL:https://adventhaus-dresden.de/termine/salon-christa-begegnungsmoeglich
 keit-fuer-studenten/
SUMMARY:Salon Christa - Begegnungsmöglichkeit für Studenten
DESCRIPTION:studententischer Hauskreis lädt ein zum Thema: „Oase des Gl
 ücks – der Blick auf die Kindheit im Wandel der Zeit“
ATTACH;FMTTYPE=image/jpeg:https://adventhaus-dresden.de/wp-content/uploads
 /241110_JuLeiCa_Teil2-6.jpg
CATEGORIES:Studenten
END:VEVENT
BEGIN:VTIMEZONE
TZID:Europe/Berlin
X-LIC-LOCATION:Europe/Berlin
BEGIN:STANDARD
DTSTART:20241027T020000
TZOFFSETFROM:+0200
TZOFFSETTO:+0100
TZNAME:CET
END:STANDARD
END:VTIMEZONE
END:VCALENDAR