BEGIN:VCALENDAR
VERSION:2.0
PRODID:-//wp-events-plugin.com//7.2.3.1//EN
BEGIN:VEVENT
UID:6551@adventhaus-dresden.de
DTSTART;TZID=Europe/Berlin;VALUE=DATE:20260522
DTEND;TZID=Europe/Berlin;VALUE=DATE:20260526
DTSTAMP:20251123T144319Z
URL:https://adventhaus-dresden.de/termine/pfingstjugendtreffen-der-bmv-ber
 lin-mitteldeutschen-vereinigung-3/
SUMMARY:Pfingstjugendtreffen der BMV (Berlin-Mitteldeutschen Vereinigung)
DESCRIPTION:Das Pfingstjugendtreffen stellt einen der Jahreshöhepunkte der
  Adventjugend BMV dar. Dabei dreht sich alles um die Begegnung mit Gott un
 d mit deinen Freunden. Neben den Veranstaltungen erwartet dich ein buntes 
 Programm aus Worshophs\, Sport- und Kreativangeboten. Wir wollen gemeinsam
  Jesus begegnen\, Gott loben und eine tolle Zeit miteinander verbringen. S
 ei dabei und bring auch deine Freunde mit. Wir freuen uns auf Dich.\n\nDie
  Veranstaltung findet unter Vorbehalt ihrer Durchführbarkeit statt.\n\nAn
 meldung bitte über die Jugendleitung oder hier: Veranstaltgskalender Adve
 ntjugend
ATTACH;FMTTYPE=image/jpeg:https://adventhaus-dresden.de/wp-content/uploads
 /Pfingstjugendtreffen.jpg
CATEGORIES:AJDD-Jugendgruppe
END:VEVENT
BEGIN:VTIMEZONE
TZID:Europe/Berlin
X-LIC-LOCATION:Europe/Berlin
BEGIN:DAYLIGHT
DTSTART:20260329T030000
TZOFFSETFROM:+0100
TZOFFSETTO:+0200
TZNAME:CEST
END:DAYLIGHT
END:VTIMEZONE
END:VCALENDAR