BEGIN:VCALENDAR
VERSION:2.0
PRODID:-//wp-events-plugin.com//7.2.3.1//EN
BEGIN:VEVENT
UID:5331@adventhaus-dresden.de
DTSTART:20251128T140000Z
DTEND:20251130T150000Z
DTSTAMP:20241113T115535Z
URL:https://adventhaus-dresden.de/termine/pfadfinder-loewenklausur/
SUMMARY:Pfadfinder-Löwenklausur
DESCRIPTION:Die Verantwortungsträger der Dresdner Löwen planen das nächs
 te Jahr mit den zu setzenden Schwerpunkten.
ATTACH;FMTTYPE=image/jpeg:https://adventhaus-dresden.de/wp-content/uploads
 /Logo-Dresdner-Löwen.jpg
CATEGORIES:AJDD-Pfadfinder
END:VEVENT
END:VCALENDAR