BEGIN:VCALENDAR
VERSION:2.0
PRODID:-//wp-events-plugin.com//7.2.3.1//EN
BEGIN:VEVENT
UID:3788@adventhaus-dresden.de
DTSTART:20230518T160000Z
DTEND:20230518T170000Z
DTSTAMP:20230511T071008Z
URL:https://adventhaus-dresden.de/termine/online-kochkurs-2023-05-22/
SUMMARY:Online-Kochkurs
DESCRIPTION:An diesem Himmelfahrtstag dreht sich alles um den Knoblauch. De
 r nächste Tag (Freitag) ist für viele eine Brückentag\, sodass der Knob
 lauch ohne Bedenken genossen werden kann. 
ATTACH;FMTTYPE=image/jpeg:https://adventhaus-dresden.de/wp-content/uploads
 /Gunda-2.jpg
CATEGORIES:Kochen
END:VEVENT
END:VCALENDAR