BEGIN:VCALENDAR
VERSION:2.0
PRODID:-//wp-events-plugin.com//7.2.3.1//EN
BEGIN:VEVENT
UID:3787@adventhaus-dresden.de
DTSTART:20230508T160000Z
DTEND:20230508T170000Z
DTSTAMP:20230504T100731Z
URL:https://adventhaus-dresden.de/termine/online-kochkurs-2023-05-08/
SUMMARY:Online-Kochkurs
DESCRIPTION:Das Menü: Französische Zwiebelsuppe mit selbst gebackenen Vol
 lkornbrötchen und Rhabarberkompott. 
ATTACH;FMTTYPE=image/jpeg:https://adventhaus-dresden.de/wp-content/uploads
 /Gunda-2.jpg
CATEGORIES:Kochen
END:VEVENT
END:VCALENDAR