BEGIN:VCALENDAR
VERSION:2.0
PRODID:-//wp-events-plugin.com//7.2.3.1//EN
BEGIN:VEVENT
UID:4548@adventhaus-dresden.de
DTSTART;TZID=Europe/Berlin:20240713T150000
DTEND;TZID=Europe/Berlin:20240713T160000
DTSTAMP:20240528T191055Z
URL:https://adventhaus-dresden.de/termine/konzert-mit-chor-lichtstrahl-aus
 -riga-lettland/
SUMMARY:Konzert mit Chor "Lichtstrahl" aus Riga (Lettland)
DESCRIPTION:In Riga\, der Hauptstadt von Lettland gibt es eine deutschsprac
 hige adventistische Gemeinde.\nIn dieser Gemeinde gibt es einen sehr engag
 ierten Chor\, der im Sommer nach Deutschland kommt und unter anderem in Dr
 esden ein mehrsprachiges Programm darbieten wird.\n\nDas Programm trägt d
 en Titet "Bedingungslose Liebe - Безусловная Любовь".\nLi
 eder und Psalmlesungen wechseln sich ab.\nÜbersetzungen ins Deutsche und 
 Russische sind vorhanden.\n\n&nbsp\;\n\nhttps://www.deutsche-gemeinde.lv\n
 \n&nbsp\;
ATTACH;FMTTYPE=image/jpeg:https://adventhaus-dresden.de/wp-content/uploads
 /bild2023-277.jpeg
CATEGORIES:Highlights
END:VEVENT
BEGIN:VTIMEZONE
TZID:Europe/Berlin
X-LIC-LOCATION:Europe/Berlin
BEGIN:DAYLIGHT
DTSTART:20240331T030000
TZOFFSETFROM:+0100
TZOFFSETTO:+0200
TZNAME:CEST
END:DAYLIGHT
END:VTIMEZONE
END:VCALENDAR