BEGIN:VCALENDAR
VERSION:2.0
PRODID:-//wp-events-plugin.com//7.2.3.1//EN
BEGIN:VEVENT
UID:5361@adventhaus-dresden.de
DTSTART:20250517T080000Z
DTEND:20250517T093000Z
DTSTAMP:20250425T191657Z
URL:https://adventhaus-dresden.de/termine/jugendaufnahmegottesdienst-geaen
 derte-anfangszeit/
SUMMARY:Jugendaufnahmegottesdienst "All In - Alles auf Gott"
DESCRIPTION:Bitte beachtet die geänderte Anfangszeit
ATTACH;FMTTYPE=image/jpeg:https://adventhaus-dresden.de/wp-content/uploads
 /Veranstaltungen-und-Termine/2018-04-14-10-32-42-Jugendaufnahme-2.jpg
CATEGORIES:AJDD-Jugendgruppe,Gottesdienst,Highlights
END:VEVENT
END:VCALENDAR