BEGIN:VCALENDAR
VERSION:2.0
PRODID:-//wp-events-plugin.com//7.2.3.1//EN
BEGIN:VEVENT
UID:3567@adventhaus-dresden.de
DTSTART:20230518T050000Z
DTEND:20230521T160000Z
DTSTAMP:20221104T084059Z
URL:https://adventhaus-dresden.de/termine/himmelfahrtslager-in-friedensau-
 hila/
SUMMARY:Himmelfahrtslager in Friedensau (HiLa)
DESCRIPTION:Einmal im Jahr treffen sich die Pfadfinder der Adventjugend in 
 Friedensau zum traditionellen Himmelfahrtslager.
ATTACH;FMTTYPE=image/jpeg:https://adventhaus-dresden.de/wp-content/uploads
 /Logo-Dresdner-Löwen.jpg
CATEGORIES:AJDD-Pfadfinder
END:VEVENT
END:VCALENDAR