BEGIN:VCALENDAR
VERSION:2.0
PRODID:-//wp-events-plugin.com//7.2.3.1//EN
BEGIN:VEVENT
UID:6570@adventhaus-dresden.de
DTSTART:20261107T083000Z
DTEND:20261107T093000Z
DTSTAMP:20260106T081503Z
URL:https://adventhaus-dresden.de/termine/hausgemeinde-sabbat-2/
SUMMARY:Hausgemeinde-Sabbat
DESCRIPTION:Wir treffen uns in unterschiedlichen Wohnungen in kleinere Grup
 pen über die Stadt verteilt.
ATTACH;FMTTYPE=image/jpeg:https://adventhaus-dresden.de/wp-content/uploads
 /20191116_124749.jpg
CATEGORIES:Familienangebot,Gottesdienst
END:VEVENT
END:VCALENDAR