BEGIN:VCALENDAR
VERSION:2.0
PRODID:-//wp-events-plugin.com//7.2.3.1//EN
BEGIN:VEVENT
UID:6557@adventhaus-dresden.de
DTSTART:20260822T083000Z
DTEND:20260822T093000Z
DTSTAMP:20251123T150030Z
URL:https://adventhaus-dresden.de/termine/gottesdienst-zum-schulanfang-2/
SUMMARY:Gottesdienst zum Schulanfang
DESCRIPTION:In einem bunten Familien-Gottesdienst wollen wir die Schulanfä
 nger unter Gottes Segen stellen.
ATTACH;FMTTYPE=image/jpeg:https://adventhaus-dresden.de/wp-content/uploads
 /Schulanfang_du_zaehlst.jpg
CATEGORIES:Familienangebot,Gottesdienst,Highlights
END:VEVENT
END:VCALENDAR