BEGIN:VCALENDAR
VERSION:2.0
PRODID:-//wp-events-plugin.com//7.2.3.1//EN
BEGIN:VEVENT
UID:4751@adventhaus-dresden.de
DTSTART;TZID=Europe/Berlin:20260117T103000
DTEND;TZID=Europe/Berlin:20260117T113000
DTSTAMP:20251218T103440Z
URL:https://adventhaus-dresden.de/termine/gottesdienst-2026-01-17/
SUMMARY:Jahresanfangs-Gottesdienst "Mut für Morgen Kirche"
DESCRIPTION:Herzlich willkommen vor Ort und Teilnahme auch per Zoom möglic
 h. Das Kirchencafe lädt im Anschluss ein.
ATTACH;FMTTYPE=image/jpeg:https://adventhaus-dresden.de/wp-content/uploads
 /JAG26-Ausschnitt.jpg
CATEGORIES:Gottesdienst
END:VEVENT
BEGIN:VTIMEZONE
TZID:Europe/Berlin
X-LIC-LOCATION:Europe/Berlin
BEGIN:STANDARD
DTSTART:20251026T020000
TZOFFSETFROM:+0200
TZOFFSETTO:+0100
TZNAME:CET
END:STANDARD
END:VTIMEZONE
END:VCALENDAR