BEGIN:VCALENDAR
VERSION:2.0
PRODID:-//wp-events-plugin.com//7.2.3.1//EN
BEGIN:VEVENT
UID:3732@adventhaus-dresden.de
DTSTART:20240810T083000Z
DTEND:20240810T093000Z
DTSTAMP:20240730T130911Z
URL:https://adventhaus-dresden.de/termine/gottesdienst-2024-08-10/
SUMMARY:Gottesdienst zum Schulanfang
DESCRIPTION:Herzlich willkommen vor Ort und Teilnahme auch per Zoom möglic
 h. Das Kirchencafe lädt im Anschluss ein.
ATTACH;FMTTYPE=image/jpeg:https://adventhaus-dresden.de/wp-content/uploads
 /Veranstaltungen-und-Termine/Vorschaubilder/teaser-schulanfang-gottesdiens
 t.jpg
CATEGORIES:Familienangebot,Gottesdienst,Highlights
END:VEVENT
END:VCALENDAR