BEGIN:VCALENDAR
VERSION:2.0
PRODID:-//wp-events-plugin.com//7.2.3.1//EN
BEGIN:VEVENT
UID:3727@adventhaus-dresden.de
DTSTART:20240706T083000Z
DTEND:20240706T093000Z
DTSTAMP:20240403T185138Z
URL:https://adventhaus-dresden.de/termine/gottesdienst-2024-07-06/
SUMMARY:Taufgottesdienst
DESCRIPTION:Herzlich willkommen vor Ort und Teilnahme auch per Zoom möglic
 h. Das Kirchencafe lädt im Anschluss ein.
ATTACH;FMTTYPE=image/jpeg:https://adventhaus-dresden.de/wp-content/uploads
 /2017-07-15-11-24-25-Taufe-Alexander-Frankeser.jpg
CATEGORIES:Gottesdienst,Highlights
END:VEVENT
END:VCALENDAR