BEGIN:VCALENDAR
VERSION:2.0
PRODID:-//wp-events-plugin.com//7.2.3.1//EN
BEGIN:VEVENT
UID:5344@adventhaus-dresden.de
DTSTART;TZID=Europe/Berlin:20250216T100000
DTEND;TZID=Europe/Berlin:20250216T140000
DTSTAMP:20250126T193516Z
URL:https://adventhaus-dresden.de/termine/gemeindewanderung-start-ins-wand
 erjahr-2025/
SUMMARY:Gemeindewanderung - Start ins Wanderjahr 2025
DESCRIPTION:Die Wandergruppe des Adventhauses ist unterwegs und lädt alle 
 Interessierten zum Mitwandern ein. Start ins Wanderjahr – Dresdner Heide
ATTACH;FMTTYPE=image/jpeg:https://adventhaus-dresden.de/wp-content/uploads
 /Veranstaltungen-und-Termine/Vorschaubilder/teaser-wandern.jpg
CATEGORIES:Wandergruppe
END:VEVENT
BEGIN:VTIMEZONE
TZID:Europe/Berlin
X-LIC-LOCATION:Europe/Berlin
BEGIN:STANDARD
DTSTART:20241027T020000
TZOFFSETFROM:+0200
TZOFFSETTO:+0100
TZNAME:CET
END:STANDARD
END:VTIMEZONE
END:VCALENDAR