BEGIN:VCALENDAR
VERSION:2.0
PRODID:-//wp-events-plugin.com//7.2.3.1//EN
BEGIN:VEVENT
UID:3533@adventhaus-dresden.de
DTSTART:20230521T083000Z
DTEND:20230521T123000Z
DTSTAMP:20230518T160909Z
URL:https://adventhaus-dresden.de/termine/gemeindewanderung-5/
SUMMARY:Gemeindewanderung
DESCRIPTION:Alle Wanderfreunde sind herzlich eingeladen. Treffpunkt: Schmil
 ka\; Fähre (rechtelbisch)
ATTACH;FMTTYPE=image/jpeg:https://adventhaus-dresden.de/wp-content/uploads
 /Veranstaltungen-und-Termine/Vorschaubilder/teaser-wandern.jpg
CATEGORIES:Wandergruppe
END:VEVENT
END:VCALENDAR