BEGIN:VCALENDAR
VERSION:2.0
PRODID:-//wp-events-plugin.com//7.2.3.1//EN
BEGIN:VEVENT
UID:6566@adventhaus-dresden.de
DTSTART;TZID=Europe/Berlin:20261025T100000
DTEND;TZID=Europe/Berlin:20261025T140000
DTSTAMP:20251123T151854Z
URL:https://adventhaus-dresden.de/termine/gemeindewanderung-22/
SUMMARY:Gemeindewanderung – Ende Wanderjahr 2026
DESCRIPTION:Die Wandergruppe des Adventhauses ist unterwegs und lädt alle 
 Interessierten zum Mitwandern ein. Nähere Informationen erfolgen an diese
 r Stelle.
ATTACH;FMTTYPE=image/jpeg:https://adventhaus-dresden.de/wp-content/uploads
 /Veranstaltungen-und-Termine/Vorschaubilder/teaser-wandern.jpg
CATEGORIES:Wandergruppe
END:VEVENT
BEGIN:VTIMEZONE
TZID:Europe/Berlin
X-LIC-LOCATION:Europe/Berlin
BEGIN:STANDARD
DTSTART:20261025T020000
TZOFFSETFROM:+0200
TZOFFSETTO:+0100
TZNAME:CET
END:STANDARD
END:VTIMEZONE
END:VCALENDAR