BEGIN:VCALENDAR
VERSION:2.0
PRODID:-//wp-events-plugin.com//7.2.3.1//EN
BEGIN:VEVENT
UID:6563@adventhaus-dresden.de
DTSTART;TZID=Europe/Berlin:20261004T160000
DTEND;TZID=Europe/Berlin:20261004T180000
DTSTAMP:20251123T161911Z
URL:https://adventhaus-dresden.de/termine/gemeindevollversammlung-8/
SUMMARY:Gemeindevollversammlung
DESCRIPTION:Entscheidungsgremium der Mitglieder der Ortsgemeinde
ATTACH;FMTTYPE=image/jpeg:https://adventhaus-dresden.de/wp-content/uploads
 /STA-DankGoDi-Bild2.jpg
CATEGORIES:Intern
END:VEVENT
BEGIN:VTIMEZONE
TZID:Europe/Berlin
X-LIC-LOCATION:Europe/Berlin
BEGIN:DAYLIGHT
DTSTART:20260329T030000
TZOFFSETFROM:+0100
TZOFFSETTO:+0200
TZNAME:CEST
END:DAYLIGHT
END:VTIMEZONE
END:VCALENDAR