BEGIN:VCALENDAR
VERSION:2.0
PRODID:-//wp-events-plugin.com//7.2.3.1//EN
BEGIN:VEVENT
UID:6310@adventhaus-dresden.de
DTSTART;TZID=Europe/Berlin:20250902T143000
DTEND;TZID=Europe/Berlin:20250902T160000
DTSTAMP:20250814T114635Z
URL:https://adventhaus-dresden.de/termine/gemeindenachmittag-fuer-jung-und
 -alt-auf-9-september-verschoben/
SUMMARY:Gemeindenachmittag für Jung und Alt auf 9. September verschoben!
DESCRIPTION:Der Gemeindenachmittag wurde auf den 9. September verschoben.
END:VEVENT
BEGIN:VTIMEZONE
TZID:Europe/Berlin
X-LIC-LOCATION:Europe/Berlin
BEGIN:DAYLIGHT
DTSTART:20250330T030000
TZOFFSETFROM:+0100
TZOFFSETTO:+0200
TZNAME:CEST
END:DAYLIGHT
END:VTIMEZONE
END:VCALENDAR