BEGIN:VCALENDAR
VERSION:2.0
PRODID:-//wp-events-plugin.com//7.2.3.1//EN
BEGIN:VEVENT
UID:4773@adventhaus-dresden.de
DTSTART;TZID=Europe/Berlin:20250401T143000
DTEND;TZID=Europe/Berlin:20250401T163000
DTSTAMP:20250103T173710Z
URL:https://adventhaus-dresden.de/termine/gemeindenachmittag-fuer-alt-und-
 jung-2025-04-01/
SUMMARY:Gemeindenachmittag für Alt und Jung
DESCRIPTION:mit Wilfried Höhne und dem Männerquartett - ein musikalischer
  Nachmittag                                                               
                                             
ATTACH;FMTTYPE=image/jpeg:https://adventhaus-dresden.de/wp-content/uploads
 /Aktuelles/2019/06-19-Seniorenwanderung/DSC05240.jpg
CATEGORIES:Senioren
END:VEVENT
BEGIN:VTIMEZONE
TZID:Europe/Berlin
X-LIC-LOCATION:Europe/Berlin
BEGIN:DAYLIGHT
DTSTART:20250330T030000
TZOFFSETFROM:+0100
TZOFFSETTO:+0200
TZNAME:CEST
END:DAYLIGHT
END:VTIMEZONE
END:VCALENDAR