BEGIN:VCALENDAR
VERSION:2.0
PRODID:-//wp-events-plugin.com//7.2.3.1//EN
BEGIN:VEVENT
UID:6455@adventhaus-dresden.de
DTSTART;TZID=Europe/Berlin:20260908T143000
DTEND;TZID=Europe/Berlin:20260908T163000
DTSTAMP:20251204T043252Z
URL:https://adventhaus-dresden.de/termine/gemeindenachmittag-fuer-alt-und-
 jung-2025-01-07-2025-02-04-2025-03-04-2025-04-01-2025-05-06-2025-09-02-202
 6-01-06-2026-02-03-2026-03-03-2026-04-07-2026-05-05-2026-06-02-2026-07-07-
 2026-0-04-2026-09-01/
SUMMARY:Gemeindenachmittag für Alt und Jung
DESCRIPTION:Gemeinsam Kaffeetrinken\, einem Referenten lauschen und Zeit mi
 teinander teilen
ATTACH;FMTTYPE=image/jpeg:https://adventhaus-dresden.de/wp-content/uploads
 /Aktuelles/2019/06-19-Seniorenwanderung/DSC05240.jpg
CATEGORIES:Senioren
END:VEVENT
BEGIN:VTIMEZONE
TZID:Europe/Berlin
X-LIC-LOCATION:Europe/Berlin
BEGIN:DAYLIGHT
DTSTART:20260329T030000
TZOFFSETFROM:+0100
TZOFFSETTO:+0200
TZNAME:CEST
END:DAYLIGHT
END:VTIMEZONE
END:VCALENDAR