BEGIN:VCALENDAR
VERSION:2.0
PRODID:-//wp-events-plugin.com//7.2.3.1//EN
BEGIN:VEVENT
UID:5360@adventhaus-dresden.de
DTSTART;TZID=Europe/Berlin:20250301T140000
DTEND;TZID=Europe/Berlin:20250301T163000
DTSTAMP:20241211T194058Z
URL:https://adventhaus-dresden.de/termine/gemeindeforum-zum-thema-schoepfu
 ngsverantwortung-warum-wie-wozu/
SUMMARY:Gemeindeforum zum Thema „Schöpfungsverantwortung! Warum? Wie? Wo
 zu?“
DESCRIPTION:(Ob und) Wie uns das Anliegen des Schutzes der Natur angeht\, u
 nserer Um-Welt bzw. Mit-Welt\, ist nicht nur eine drängende gesellschaftl
 iche Frage („Last Generation“)\, sondern ist auch ein religiöses und 
 christliches Thema („Bewahrung der Schöpfung“).
ATTACH;FMTTYPE=image/jpeg:https://adventhaus-dresden.de/wp-content/uploads
 /Klaus-Schmitz-1.jpg
CATEGORIES:Highlights
END:VEVENT
BEGIN:VTIMEZONE
TZID:Europe/Berlin
X-LIC-LOCATION:Europe/Berlin
BEGIN:STANDARD
DTSTART:20241027T020000
TZOFFSETFROM:+0200
TZOFFSETTO:+0100
TZNAME:CET
END:STANDARD
END:VTIMEZONE
END:VCALENDAR