BEGIN:VCALENDAR
VERSION:2.0
PRODID:-//wp-events-plugin.com//7.2.3.1//EN
BEGIN:VEVENT
UID:6587@adventhaus-dresden.de
DTSTART;TZID=Europe/Berlin:20251220T170000
DTEND;TZID=Europe/Berlin:20251220T190000
DTSTAMP:20251201T064840Z
URL:https://adventhaus-dresden.de/termine/feuer-waerme-licht-im-advent/
SUMMARY:Feuer\, Wärme\, Licht im Advent
DESCRIPTION:Wir laden herzlich zum Adventfeuer vor dem Adventhaus ein.\n\nB
 ei Stockbrotbacken\, Adventspunsch und fröhlichem Singen erleben wir geme
 insam Vorfreude auf Weihnachten. Alle Generationen sind willkommen! Zwisch
 en 17 und 19 Uhr können sie kommen\, bleiben und gehen wie es ihnen angen
 ehm ist. Sie treffen uns vor dem Eingang zum Adventhaus\, direkt vom Fußw
 eg aus.
ATTACH;FMTTYPE=image/jpeg:https://adventhaus-dresden.de/wp-content/uploads
 /sta_advent_2025_vs.jpg
CATEGORIES:Familienangebot,Highlights
END:VEVENT
BEGIN:VTIMEZONE
TZID:Europe/Berlin
X-LIC-LOCATION:Europe/Berlin
BEGIN:STANDARD
DTSTART:20251026T020000
TZOFFSETFROM:+0200
TZOFFSETTO:+0100
TZNAME:CET
END:STANDARD
END:VTIMEZONE
END:VCALENDAR