BEGIN:VCALENDAR
VERSION:2.0
PRODID:-//wp-events-plugin.com//7.2.3.1//EN
BEGIN:VEVENT
UID:6572@adventhaus-dresden.de
DTSTART:20261224T133000Z
DTEND:20261224T150000Z
DTSTAMP:20251123T155650Z
URL:https://adventhaus-dresden.de/termine/christvesper-3/
SUMMARY:Christvesper
DESCRIPTION:Freuen Sie sich auf eine Stunde Besinnung zu Weihnachten mit ei
 nem Krippenspiel unter der Überschrift "Das Geschenk des Himmels"\, Weihn
 achtsliedern und Musik.
ATTACH;FMTTYPE=image/jpeg:https://adventhaus-dresden.de/wp-content/uploads
 /Christvesper_2024_Banner.jpg
CATEGORIES:Familienangebot,Highlights
END:VEVENT
END:VCALENDAR