BEGIN:VCALENDAR
VERSION:2.0
PRODID:-//wp-events-plugin.com//7.2.3.1//EN
BEGIN:VEVENT
UID:4808@adventhaus-dresden.de
DTSTART:20250517T070000Z
DTEND:20250517T074500Z
DTSTAMP:20250512T094034Z
URL:https://adventhaus-dresden.de/termine/bibelgespraech-zeit-zum-austausc
 hen-zeit-der-begegnung-2025-05-17/
SUMMARY:Bibelgespräch im Adventhaus - Zeit zum Austauschen\, Zeit der Bege
 gnung
DESCRIPTION:Ausnahme: Start 09:00 Uhr wegen Beginn Jugendaufnahmegottesdien
 st\nDer Austausch dient dem Lernen aus dem Wort Gottes\, dem Erweitern des
  eigenen Horizontes und dem Lernen voneinander.\nDas Bibelgespräch ist ei
 ne eigene Veranstaltung\, die 15min vor dem Gottesdienst endet.
ATTACH;FMTTYPE=image/jpeg:https://adventhaus-dresden.de/wp-content/uploads
 /StudienheftQuartal22025.jpg
CATEGORIES:Bibelgespräch,Gottesdienst
END:VEVENT
END:VCALENDAR