BEGIN:VCALENDAR
VERSION:2.0
PRODID:-//wp-events-plugin.com//7.2.3.1//EN
BEGIN:VEVENT
UID:6401@adventhaus-dresden.de
DTSTART:20251124T080000Z
DTEND:20251124T100000Z
DTSTAMP:20251108T074253Z
URL:https://adventhaus-dresden.de/termine/basteln-und-naehen-repair-cafe-%
 d1%80%d1%83%d0%ba%d0%be%d0%b4%d0%b5%d0%bb%d0%b8%d0%b5-%d0%b8-%d1%88%d0%b8%
 d1%82%d1%8c%d0%b5-2/
SUMMARY:Basteln und Nähen + Repair-Café / Рукоделие и шить
 е
DESCRIPTION:Entwerfen von Kleidern und Taschen. Reparatur von Kleidung. 
ATTACH;FMTTYPE=image/jpeg:https://adventhaus-dresden.de/wp-content/uploads
 /Aktuelles/2020/12-nähen/Gunda.jpg
CATEGORIES:Basteln und Nähen,Familienangebot
END:VEVENT
END:VCALENDAR