BEGIN:VCALENDAR
VERSION:2.0
PRODID:-//wp-events-plugin.com//7.2.3.1//EN
BEGIN:VEVENT
UID:4581@adventhaus-dresden.de
DTSTART;TZID=Europe/Berlin:20240803T170000
DTEND;TZID=Europe/Berlin:20240803T190000
DTSTAMP:20240725T174849Z
URL:https://adventhaus-dresden.de/termine/abschlusskonzert-orchesterwoche-
 in-freitaler-christuskirche/
SUMMARY:Abschlusskonzert Orchesterwoche in Freitaler Christuskirche
DESCRIPTION:Herzliche Einladung in die Freitaler Christuskirche  \, An der
  Kirche 10\,01705 Freital OT Deuben.\nEin Sinfonieorchester\, welches sich
  nach langer Pause in neuer Zusammensetzung zur bundesweiten Orchesterwoch
 e im Waldpark trifft\, freut sich auf zahlreiche Gäste aus den Adventgeme
 inden und ihre Freunde! Denn es wartet ein abwechslungsreiches sinfonische
 s Programm auf alle Zuhörer: Tschaikowskis „Schwanensee-Suite“\, Sibe
 lius‘ „Finlandia“\, Werke von Händel\, Gabrieli und andere!\nDie Or
 chesterwoche wird geleitet von den Musikbeauftragten Sebastian Haase (NRW)
  und Michael Nestler (BMV). Die musikalische Gesamtleitung hat Cornelius V
 olke (HfM Dresden)\n\nKarten zu 7€/5€ gibt es an der „Abendkasse“.
  Kinder und Jugendliche bis 18 Jahre haben freien Eintritt.\n\nEbenso kön
 nen Karten bis zum 02.08. vorbestellt werden\, die per Überweisung an die
  BMV bezahlt werden können. Kurze Mail mit Namen\, Anzahl der Karten und 
 E Mail Adresse bitte an:\nMichael.nestler@adventisten.de
ATTACH;FMTTYPE=image/jpeg:https://adventhaus-dresden.de/wp-content/uploads
 /Orchesterwoche.jpg
CATEGORIES:Highlights
END:VEVENT
BEGIN:VTIMEZONE
TZID:Europe/Berlin
X-LIC-LOCATION:Europe/Berlin
BEGIN:DAYLIGHT
DTSTART:20240331T030000
TZOFFSETFROM:+0100
TZOFFSETTO:+0200
TZNAME:CEST
END:DAYLIGHT
END:VTIMEZONE
END:VCALENDAR