BEGIN:VCALENDAR
VERSION:2.0
PRODID:-//wp-events-plugin.com//7.2.3.1//EN
BEGIN:VEVENT
UID:6311@adventhaus-dresden.de
DTSTART;TZID=Europe/Berlin:20250913T090000
DTEND;TZID=Europe/Berlin:20250913T210000
DTSTAMP:20250815T185930Z
URL:https://adventhaus-dresden.de/termine/35-jahre-dresdner-loewen-pfadfin
 der-wir-feiern-im-pfadfindergarten/
SUMMARY:35 Jahre Dresdner Löwen (Pfadfinder) - Wir feiern im Pfadfindergar
 ten
DESCRIPTION:Wir freuen uns sehr auf Euch und den gemeinsamen dankbaren Rüc
 kblick auf 35 gesegnete Pfadi-Jahre.
ATTACH;FMTTYPE=image/jpeg:https://adventhaus-dresden.de/wp-content/uploads
 /10-Gruppenbild.jpg
CATEGORIES:AJDD-Kindergruppe,AJDD-Pfadfinder,Familienangebot,Highlights
END:VEVENT
BEGIN:VTIMEZONE
TZID:Europe/Berlin
X-LIC-LOCATION:Europe/Berlin
BEGIN:DAYLIGHT
DTSTART:20250330T030000
TZOFFSETFROM:+0100
TZOFFSETTO:+0200
TZNAME:CEST
END:DAYLIGHT
END:VTIMEZONE
END:VCALENDAR